BEGIN:VCALENDAR
VERSION:2.0
PRODID:-//Tukios.com/
BEGIN:VEVENT
UID:d918c19f-e3da-4188-a490-995f5018a764@www.dightonmarler.com
DTSTAMP:20260426T030934Z
DTSTART:20260428T190000Z
DTEND:20260428T200000Z
SUMMARY:Celebration of Life
DESCRIPTION:
URL:https://www.dightonmarler.com/obituaries/barbara-kuehl
LOCATION:Dighton-Marler funeral home 5106 North Washington Street  
	Stillwater OK 74075
GEO:36.1756203;-97.0704183
END:VEVENT
END:VCALENDAR