BEGIN:VCALENDAR
VERSION:2.0
PRODID:-//Tukios.com/
BEGIN:VEVENT
UID:87b53265-9033-4176-b10d-524bbad05755@www.dightonmarler.com
DTSTAMP:20260424T040856Z
DTSTART:20260429T140000Z
DTEND:20260430T010000Z
SUMMARY:Viewing
DESCRIPTION:
URL:https://www.dightonmarler.com/obituaries/mary-murphy
LOCATION: 5106 N Washington St  Stillwater OK 74075
GEO:36.1755885;-97.0703918
END:VEVENT
END:VCALENDAR