BEGIN:VCALENDAR
VERSION:2.0
PRODID:-//Tukios.com/
BEGIN:VEVENT
UID:0a0e3c8c-7c61-4bc0-ae1f-4de99883a55a@www.dightonmarler.com
DTSTAMP:20260424T040317Z
DTSTART:20260429T230000Z
DTEND:20260430T010000Z
SUMMARY:Visitation with Family
DESCRIPTION:
URL:https://www.dightonmarler.com/obituaries/mary-murphy
LOCATION: 5106 N Washington St  Stillwater OK 74075
GEO:36.1755885;-97.0703918
END:VEVENT
END:VCALENDAR