BEGIN:VCALENDAR
VERSION:2.0
PRODID:-//Tukios.com/
BEGIN:VEVENT
UID:10260114-1f4f-464b-a3db-a6fb3a9f1325@www.dightonmarler.com
DTSTAMP:20260424T040809Z
DTSTART:20260430T190000Z
DTEND:20260430T200000Z
SUMMARY:Celebration of Life
DESCRIPTION:
URL:https://www.dightonmarler.com/obituaries/mary-murphy
LOCATION: 5106 N Washington St  Stillwater OK 74075
GEO:36.1755885;-97.0703918
END:VEVENT
END:VCALENDAR