BEGIN:VCALENDAR
VERSION:2.0
PRODID:-//Tukios.com/
BEGIN:VEVENT
UID:30292329-2a34-4b2c-800b-74c41bf75a74@www.dightonmarler.com
DTSTAMP:20260424T040810Z
DTSTART:20260430T153000Z
DTEND:20260430T163000Z
SUMMARY:Interment
DESCRIPTION:
URL:https://www.dightonmarler.com/obituaries/mary-murphy
LOCATION: 1123 East 6th Avenue  Stillwater OK 74074
GEO:36.1138122;-97.0427658
END:VEVENT
END:VCALENDAR