BEGIN:VCALENDAR
VERSION:2.0
PRODID:-//Tukios.com/
BEGIN:VEVENT
UID:3682b186-5319-483c-aa69-6382827e99d2@www.dightonmarler.com
DTSTAMP:20260423T010136Z
DTSTART:20260425T230000Z
DTEND:20260426T000000Z
SUMMARY:Celebration of Life
DESCRIPTION:
URL:https://www.dightonmarler.com/obituaries/melea-jill-dodds
LOCATION:Freedom Church 325 E Speer Ave  Sapulpa OK 74066
GEO:36.0096784;-96.1097258
END:VEVENT
END:VCALENDAR