BEGIN:VCALENDAR
VERSION:2.0
PRODID:-//Tukios.com/
BEGIN:VEVENT
UID:741aab9b-b2d8-4a51-acd4-5150ec901dc3@www.dightonmarler.com
DTSTAMP:20260420T225728Z
DTSTART:20260424T190000Z
DTEND:20260424T200000Z
SUMMARY:Memorial Service
DESCRIPTION:
URL:https://www.dightonmarler.com/obituaries/robert-page
LOCATION:Dighton Marler Funeral Home Chapel 5106 North Washington Street  
	Stillwater OK 74075
GEO:36.1756203;-97.0704183
END:VEVENT
END:VCALENDAR