BEGIN:VCALENDAR
VERSION:2.0
PRODID:-//Tukios.com/
BEGIN:VEVENT
UID:0edc77aa-7758-4520-ae35-6a117ca217c7@www.dightonmarler.com
DTSTAMP:20260421T180826Z
DTSTART:20260425T180000Z
DTEND:20260425T190000Z
SUMMARY:Celebration of Life
DESCRIPTION:
URL:https://www.dightonmarler.com/obituaries/taneesia-tucker
LOCATION:First United Methodist Church 930 S Little Ave  Cushing OK 74023
GEO:35.9717655;-96.7667781
END:VEVENT
END:VCALENDAR